BEGIN:VCALENDAR
PRODID:-//kirchenweb.ch gmbh//veranstaltungsausgabe v2.0//DE
VERSION:2.0
METHOD:PUBLISH
BEGIN:VEVENT
DTSTART:20221129T165500Z
DTEND:20221129T182500Z
LOCATION:Bau\, Kirchgasse 9\, 8706 Meilen
TRANSP:OPAQUE
SEQUENCE:0
UID:9933-veranstaltung@ref-meilen.ch
DTSTAMP:20220727T110055Z
DESCRIPTION:Kontakt: Flurina Bezzola\n\nWeitere Infos:
  https://www.ref-meilen.ch/veranstaltung/9933
SUMMARY:Konf: Unti Gruppe 1
PRIORITY:5
X-MICROSOFT-CDO-IMPORTANCE:1
CLASS:PUBLIC
END:VEVENT
END:VCALENDAR
