BEGIN:VCALENDAR
PRODID:-//kirchenweb.ch gmbh//veranstaltungsausgabe v2.0//DE
VERSION:2.0
METHOD:PUBLISH
BEGIN:VEVENT
DTSTART:20221206T190000Z
DTEND:20221206T210000Z
LOCATION:KiZ Leue\, Kirchgasse 2\, 8706 Meilen
TRANSP:OPAQUE
SEQUENCE:0
UID:9873-veranstaltung@ref-meilen.ch
DTSTAMP:20220725T072949Z
DESCRIPTION:Die Singgruppe für alle - wir freuen uns über deine Stimme!
 \n\nHerzliche Einladung an ALLE zum Mitsingen; auch ohne Chorerfahrung
  oder Notenkenntnisse. Leitung: Kantor Ernst Buscagne\n\nKontakt: Ernst
  Buscagne\n\nWeitere Infos: https://www.ref-meilen.ch/veranstaltung/9873
SUMMARY:Cantiamo insieme
PRIORITY:5
X-MICROSOFT-CDO-IMPORTANCE:1
CLASS:PUBLIC
END:VEVENT
END:VCALENDAR
