BEGIN:VCALENDAR
PRODID:-//kirchenweb.ch gmbh//veranstaltungsausgabe v2.0//DE
VERSION:2.0
METHOD:PUBLISH
BEGIN:VEVENT
DTSTART:20221207T113000Z
DTEND:20221207T130000Z
LOCATION:Neue Aula Schule Feld\, \,
TRANSP:OPAQUE
SEQUENCE:0
UID:9757-veranstaltung@ref-meilen.ch
DTSTAMP:20230109T093633Z
DESCRIPTION:Alle zwei Wochen am Mittwoch nicht kochen\, nicht einkaufen\,
  sich ein feines Essen mit Dessert gönnen und Kontakte mit Gleichaltrigen
  pflegen: Wie wär's?\n\nErkundigen Sie sich bei Barbara Wittmer\, 078 628
  38 38 oder E-Mail http://barbara.wittmer@hegglin.com. Sie ist gerne für
  Sie da.\n\n\nKontakt: nicole.moser@ref-meilen.ch\n\nWeitere Infos:
  https://www.ref-meilen.ch/veranstaltung/9757
SUMMARY:Senioren-Mittagstisch Feld
PRIORITY:5
X-MICROSOFT-CDO-IMPORTANCE:1
CLASS:PUBLIC
END:VEVENT
END:VCALENDAR
