BEGIN:VCALENDAR
PRODID:-//kirchenweb.ch gmbh//veranstaltungsausgabe v2.0//DE
VERSION:2.0
METHOD:PUBLISH
BEGIN:VEVENT
DTSTART:20231128T130000Z
DTEND:20231128T153000Z
LOCATION:KiZ Leue\, Kirchgasse 2\, 8706 Meilen
TRANSP:OPAQUE
SEQUENCE:0
UID:9725-veranstaltung@ref-meilen.ch
DTSTAMP:20230810T140657Z
DESCRIPTION:Das Kaffee für Alle\n\n\nSie sind herzlich willkommen!\n
 \nKontakt: heike.kirschke@ref-meilen.ch\n\nWeitere Infos:
  https://www.ref-meilen.ch/veranstaltung/9725
SUMMARY:Leue-Träff mit Erzählstunde
PRIORITY:5
X-MICROSOFT-CDO-IMPORTANCE:1
CLASS:PUBLIC
END:VEVENT
END:VCALENDAR
