BEGIN:VCALENDAR
PRODID:-//kirchenweb.ch gmbh//veranstaltungsausgabe v2.0//DE
VERSION:2.0
METHOD:PUBLISH
BEGIN:VEVENT
DTSTART:20231116T090000Z
DTEND:20231116T100000Z
LOCATION:Platten Meilen\, \,
TRANSP:OPAQUE
SEQUENCE:0
UID:9632-veranstaltung@ref-meilen.ch
DTSTAMP:20220830T141247Z
DESCRIPTION:Kontakt: Erich Wyss\n\nWeitere Infos:
  https://www.ref-meilen.ch/veranstaltung/9632
SUMMARY:Andacht Platten
PRIORITY:5
X-MICROSOFT-CDO-IMPORTANCE:1
CLASS:PUBLIC
END:VEVENT
END:VCALENDAR
