BEGIN:VCALENDAR
PRODID:-//kirchenweb.ch gmbh//veranstaltungsausgabe v2.0//DE
VERSION:2.0
METHOD:PUBLISH
BEGIN:VEVENT
DTSTART:20231111T171500Z
DTEND:20231111T181500Z
LOCATION:KiZ Leue\, Kirchgasse 2\, 8706 Meilen
TRANSP:OPAQUE
SEQUENCE:0
UID:9443-veranstaltung@ref-meilen.ch
DTSTAMP:20231122T122530Z
DESCRIPTION:Beim letzten Ufwind wird Pfr. Markus Felss\, Klinikpfarrer im
  Schlössli\, uns von seinen Erfahrungen mit den Menschen berichten\, mit
  denen er täglich zu tun hat. Er wird noch einen weiteren Gast
  mitbringen\, der uns als Betroffener von seinen Erfahrungen mit
  psychischer Krankheit berichten wird.\n\nKontakt: Pfr. Daniel Eschmann\n
 \nWeitere Infos: https://www.ref-meilen.ch/veranstaltung/9443
SUMMARY:Abschieds - Ufwind
PRIORITY:5
X-MICROSOFT-CDO-IMPORTANCE:1
CLASS:PUBLIC
END:VEVENT
END:VCALENDAR
