BEGIN:VCALENDAR
PRODID:-//kirchenweb.ch gmbh//veranstaltungsausgabe v2.0//DE
VERSION:2.0
METHOD:PUBLISH
BEGIN:VEVENT
DTSTART:20221130T150000Z
DTEND:20221130T153000Z
LOCATION:Kirche\, \,
TRANSP:OPAQUE
SEQUENCE:0
UID:8992-veranstaltung@ref-meilen.ch
DTSTAMP:20221121T080757Z
DESCRIPTION:Die «Chile-Muus» freut sich schon jetzt auf die
  bevorstehende Advents- und Weihnachtszeit. Gemeinsam mit «Chlii &
  Gross» sucht sie mit dem vergesslichen Eichhörnchen nach seinen
  Nüssen\, entdeckt mit dem kleinen Esel\, dass die Adventszeit mit
  Freunden viel schneller vorbei geht und hilft dem Samichlaus bei der
  Suche nach einem Gehilfen.\n\nNach der halbstündigen Feier erwartet
  Klein und Gross ein kleiner Zvieri im Foyer und auch das Spielen und der
  Austausch kommen nicht zu kurz.\n\nFranziska Tanner\, Katechetin\n
 \nKontakt: Pfr. Daniel Eschmann\n\nWeitere Infos:
  https://www.ref-meilen.ch/veranstaltung/8992
SUMMARY:Fiire mit de Chliine & de Grosse
PRIORITY:5
X-MICROSOFT-CDO-IMPORTANCE:1
CLASS:PUBLIC
END:VEVENT
END:VCALENDAR
