BEGIN:VCALENDAR
PRODID:-//kirchenweb.ch gmbh//veranstaltungsausgabe v2.0//DE
VERSION:2.0
METHOD:PUBLISH
BEGIN:VEVENT
DTSTART:20231126T161500Z
DTEND:20231126T170000Z
LOCATION:Kirche\, Seestrasse 585\, 8706 Meilen
TRANSP:OPAQUE
SEQUENCE:0
UID:7908-veranstaltung@ref-meilen.ch
DTSTAMP:20240514T125151Z
DESCRIPTION:JUVEM\, das Junge Vokalensemble Meilen präsentiert am
  Ewigkeitssonntag sein jährliches Herbstkonzert «O Magnum Mysterium».
  Das Konzert findet jährlich am Ewigkeitssonntag statt - ein Tag an der
  Schwelle zur Adventszeit\, ein Tag der sich mit der Schwelle zum Tod\,
  zur Ewigkeit befasst.\n\nIm Programm steht das Werk «O Magnum
  Mysterium» von Marcus Paus für gemischten Chor mit Marimbaphon im
  Mittelpunkt. Das Werk ist durchaus für die Adventszeit gedacht und
  befasst sich mit dem grossen Geheimnis der Geburt Christi. In diesem
  Programm steht dieses Werk und die Betrachtung der Geburt Christi
  stellvertretend für der Geburt des Menschen. Als klanglicher und
  inhaltlicher Gegenpol zum Paus\, erklingt die grosse Motette von Johannes
  Brahms «Warum ist das Licht gegeben dem Mühseligen». Durch die weitere
  Lebensstationen begleiten uns die «Lieder im Freien zu singen» von
  Felix Mendelssohn (mit den emotionalen Höhen und Tiefen dieser kleinen
  Meisterwerken des jungen Kompositionen).\nErnst Buscagne\, Kantor\n
 \nKontakt: Ernst Buscagne\n\nWeitere Infos:
  https://www.ref-meilen.ch/veranstaltung/7908
SUMMARY:JUVEM Junges Vokalensemble Meilen
PRIORITY:5
X-MICROSOFT-CDO-IMPORTANCE:1
CLASS:PUBLIC
END:VEVENT
END:VCALENDAR
