BEGIN:VCALENDAR
PRODID:-//kirchenweb.ch gmbh//veranstaltungsausgabe v2.0//DE
VERSION:2.0
METHOD:PUBLISH
BEGIN:VEVENT
DTSTART:20231126T084500Z
DTEND:20231126T094500Z
LOCATION:Kirche\, Seestrasse 585\, 8706 Meilen
TRANSP:OPAQUE
SEQUENCE:0
UID:7907-veranstaltung@ref-meilen.ch
DTSTAMP:20231113T140312Z
DESCRIPTION:In diesem Jahr wird der Gottesdienst am Ewigkeitssonntag
  erstmalig gemeinsam von unseren drei Pfarrpersonen gefeiert. Zu hören
  gibt es ein ausgewähltes Gesangsprogramm von
  https://www.ref-meilen.ch/veranstaltung/7908.\n\nKontakt: Daniel Eschmann
 \n\nWeitere Infos: https://www.ref-meilen.ch/veranstaltung/7907
SUMMARY:Gottesdienst am Ewigkeitssonntag
PRIORITY:5
X-MICROSOFT-CDO-IMPORTANCE:1
CLASS:PUBLIC
END:VEVENT
END:VCALENDAR
