BEGIN:VCALENDAR
PRODID:-//kirchenweb.ch gmbh//veranstaltungsausgabe v2.0//DE
VERSION:2.0
METHOD:PUBLISH
BEGIN:VEVENT
DTSTART:20231112T160000Z
DTEND:20231112T171500Z
LOCATION:Kirche\, Seestrasse 585\, 8706 Meilen
TRANSP:OPAQUE
SEQUENCE:0
UID:7906-veranstaltung@ref-meilen.ch
DTSTAMP:20230802T172548Z
DESCRIPTION:«Some things»\nEs gibt tausend Dinge\, die uns tagtäglich
  beschäftigen. \nEinige Dinge aber sind viel wichtiger als alles andere
  im Leben.\n\nDas Jazz Live Trio verdankt seine Entstehung einem Auftrag
  des Schweizer Radios SRF\, für eine Jazzkonzert-Reihe ein Haustrio zu
  stellen\, um die einzuladenden Solisten zu begleiten. Das ist allerdings
  schon eine Weile her. Doch nach wie vor ist das Trio sehr gefragt. Alle
  drei Musiker sind grossartige Solisten\, verstehen es aber\, mit ihrem
  Spiel einen Gesamtsound zu erzeugen\, der weit mehr ist als die Summe
  dreier solistisch brillierender Musiker. \n\n\nKontakt: Daniel Eschmann\n
 \nWeitere Infos: https://www.ref-meilen.ch/veranstaltung/7906
SUMMARY:JAZZ & MORE
PRIORITY:5
X-MICROSOFT-CDO-IMPORTANCE:1
CLASS:PUBLIC
END:VEVENT
END:VCALENDAR
