BEGIN:VCALENDAR
PRODID:-//kirchenweb.ch gmbh//veranstaltungsausgabe v2.0//DE
VERSION:2.0
METHOD:PUBLISH
BEGIN:VEVENT
DTSTART:20221201T090000Z
DTEND:20221201T100000Z
LOCATION:Platten Meilen\, \,
TRANSP:OPAQUE
SEQUENCE:0
UID:7439-veranstaltung@ref-meilen.ch
DTSTAMP:20220106T113053Z
DESCRIPTION:Kontakt: Marc Stillhard\n\nWeitere Infos:
  https://www.ref-meilen.ch/veranstaltung/7439
SUMMARY:Andacht AZ Platten
PRIORITY:5
X-MICROSOFT-CDO-IMPORTANCE:1
CLASS:PUBLIC
END:VEVENT
END:VCALENDAR
