BEGIN:VCALENDAR
PRODID:-//kirchenweb.ch gmbh//veranstaltungsausgabe v2.0//DE
VERSION:2.0
METHOD:PUBLISH
BEGIN:VEVENT
DTSTART:20221126T171500Z
DTEND:20221126T181500Z
LOCATION:KiZ Leue\, Kirchgasse 2\, 8706 Meilen
TRANSP:OPAQUE
SEQUENCE:0
UID:7400-veranstaltung@ref-meilen.ch
DTSTAMP:20221121T081851Z
DESCRIPTION:Fleischkäse ist vorhanden\, für Beiträge zum Salat- oder
  Dessertbuffet sind wir dankbar.\n\n\nKontakt: Daniel Eschmann\n\nWeitere
  Infos: https://www.ref-meilen.ch/veranstaltung/7400
SUMMARY:Ufwind mit anschliessendem Nachtessen
PRIORITY:5
X-MICROSOFT-CDO-IMPORTANCE:1
CLASS:PUBLIC
END:VEVENT
END:VCALENDAR
