BEGIN:VCALENDAR
PRODID:-//kirchenweb.ch gmbh//veranstaltungsausgabe v2.0//DE
VERSION:2.0
METHOD:PUBLISH
BEGIN:VEVENT
DTSTART:20221127T150000Z
DTEND:20221127T160000Z
LOCATION:Kirche\, Seestrasse 585\, 8706 Meilen
TRANSP:OPAQUE
SEQUENCE:0
UID:7367-veranstaltung@ref-meilen.ch
DTSTAMP:20221117T122535Z
DESCRIPTION:Am ersten Adventssonntag feiern die Chöre der Kantorei Meilen
  (Gospelchor und Cantiamo insieme) mit den Vocalino-Gruppen der Singschule
  Musikschule Pfannenstiel einen feierlichen Auftakt in die Adventszeit\,
  der gut mit einem Besuch am Meilemer Weihnachtsmarkt verbunden werden
  kann.\n\nIn diesem Jahr heissen wir auch zum ersten Mal die Mitglieder
  der katholischen Pfarrei St. Martin herzlich willkommen. Unter dem Motto
  «Adventslicht» wollen wir einerseits zusammen staunen über das Wunder
  des Lichts der Adventszeit\, andrerseits aber innehalten und für
  Frieden\, Wohlergehen und Hoffnung in unserer krisengeschüttelten Welt
  beten. Die Kinderchöre tragen mit ihren schwungvollen Liedern zur
  festlichen Stimmung bei; die Gemeindemitglieder hingegen singen –
  gemeinsam mit den Mitgliedern der Kantorei-Chöre – alte und neue
  Advents- und Friedenslieder.\n\nDas Adventssingen der Kantorei Meilen hat
  eine lange Tradition und wir freuen uns sehr\, dass wir das Offene Singen
  wieder in unserer Kirche durchführen können – Ihre Teilnahme und
  Ihre Stimme im Zusammenklang sind erwünscht!\n\n\nKontakt: Ernst
  Buscagne\n\nWeitere Infos: https://www.ref-meilen.ch/veranstaltung/7367
SUMMARY:Offenes Adventssingen für alle
PRIORITY:5
X-MICROSOFT-CDO-IMPORTANCE:1
CLASS:PUBLIC
END:VEVENT
END:VCALENDAR
