BEGIN:VCALENDAR
PRODID:-//kirchenweb.ch gmbh//veranstaltungsausgabe v2.0//DE
VERSION:2.0
METHOD:PUBLISH
BEGIN:VEVENT
DTSTART:20221204T084500Z
DTEND:20221204T094500Z
LOCATION:Kirche\, Seestrasse 585\, 8706 Meilen
TRANSP:OPAQUE
SEQUENCE:0
UID:7314-veranstaltung@ref-meilen.ch
DTSTAMP:20221121T163056Z
DESCRIPTION:Wie immer am zweiten Advent dürfen Sie sich\, liebe
  Angesprochene\, auf einen besonderen musikalischen Leckerbissen im
  Gottesdienst freuen.\n\nEine gehobene elfköpfige Formation aus
  versierten Meilemer Laien unter der Leitung von Barbara Meldau\, unserer
  Organistin\, wird Stücke von Mozart und Grieg spielen. Zudem wird eine
  Predigt zur Offenbarung 3\,14-22. gehalten.\n\nKontakt: Pfr. Erich Wyss\n
 \nWeitere Infos: https://www.ref-meilen.ch/veranstaltung/7314
SUMMARY:Gottesdienst
PRIORITY:5
X-MICROSOFT-CDO-IMPORTANCE:1
CLASS:PUBLIC
END:VEVENT
END:VCALENDAR
