BEGIN:VCALENDAR
PRODID:-//kirchenweb.ch gmbh//veranstaltungsausgabe v2.0//DE
VERSION:2.0
METHOD:PUBLISH
BEGIN:VEVENT
DTSTART:20221127T084500Z
DTEND:20221127T100000Z
LOCATION:Kirche\, Seestrasse 585\, 8706 Meilen
TRANSP:OPAQUE
SEQUENCE:0
UID:7313-veranstaltung@ref-meilen.ch
DTSTAMP:20221117T123015Z
DESCRIPTION:«Wir sagen euch an\, den lieben Advent. Sehet die erste Kerze
  brennt.» Das bekannte Kirchenlied\nerwartet in feierlich-froher
  Grundstimmung die Geburt Jesu Christi. Das ist aber nur die eine Seite
  des Advents.\n\nAuf eine heilsame Veränderung im Leben warten müssen\,
  kann nämlich auch ganz schön schwierig sein. Advent bedeutet darum
  immer auch\, das Dunkel in der Welt und im Leben aushalten lernen und
  dabei die Hoffnung nicht verlieren.\n\nKontakt: Pfr. Marc Stillhard\n
 \nWeitere Infos: https://www.ref-meilen.ch/veranstaltung/7313
SUMMARY:Gottesdienst
PRIORITY:5
X-MICROSOFT-CDO-IMPORTANCE:1
CLASS:PUBLIC
END:VEVENT
END:VCALENDAR
