BEGIN:VCALENDAR
PRODID:-//kirchenweb.ch gmbh//veranstaltungsausgabe v2.0//DE
VERSION:2.0
METHOD:PUBLISH
BEGIN:VEVENT
DTSTART:20270527T170000Z
DTEND:20270527T174000Z
LOCATION:Kirche\, Seestrasse 585\, 8706 Meilen
TRANSP:OPAQUE
SEQUENCE:0
UID:17521-veranstaltung@ref-meilen.ch
DTSTAMP:20260408T090558Z
DESCRIPTION:Kontakt: monika.rutishauser@ref-meilen.ch\n\nWeitere Infos:
  https://www.ref-meilen.ch/veranstaltung/17521
SUMMARY:Gospelensemble Kantorei Meilen
PRIORITY:5
X-MICROSOFT-CDO-IMPORTANCE:1
CLASS:PUBLIC
END:VEVENT
END:VCALENDAR
