BEGIN:VCALENDAR
PRODID:-//kirchenweb.ch gmbh//veranstaltungsausgabe v2.0//DE
VERSION:2.0
METHOD:PUBLISH
BEGIN:VEVENT
DTSTART:20260508T121500Z
DTEND:20260508T131500Z
LOCATION:Kirche\, Seestrasse 585\, 8706 Meilen
TRANSP:OPAQUE
SEQUENCE:0
UID:17467-veranstaltung@ref-meilen.ch
DTSTAMP:20260401T092525Z
DESCRIPTION:Kontakt: Pfrn. Karola Wildenauer\n\nWeitere Infos:
  https://www.ref-meilen.ch/veranstaltung/17467
SUMMARY:Abdankung Hermann Huber
PRIORITY:5
X-MICROSOFT-CDO-IMPORTANCE:1
CLASS:PUBLIC
END:VEVENT
END:VCALENDAR
