BEGIN:VCALENDAR
PRODID:-//kirchenweb.ch gmbh//veranstaltungsausgabe v2.0//DE
VERSION:2.0
METHOD:PUBLISH
BEGIN:VEVENT
DTSTART:20260921T070000Z
DTEND:20260921T090000Z
LOCATION:Bau\, Kirchgasse 9\, 8706 Meilen
TRANSP:OPAQUE
SEQUENCE:0
UID:17422-veranstaltung@ref-meilen.ch
DTSTAMP:20260316T104315Z
DESCRIPTION:Die Gelegenheit\, um Kontakte zu finden und die deutsche
  Sprache anzuwenden und zu üben\, bei Kaffee\, Tee und Gebäck.\n\nWir
  freuen uns und laden alle Interessierten herzlich ein.\n\nDas Café
  Grüezi International-Team: \nBarbara Pfenninger\, Marianne Trapletti\,
  Rosemarie Ayer\, Silvia Haselbach und Gabi Sulzer.\n\nKontakt:\nMarianne
  Trapletti\, 079 200 54 46\n\n\n\nKontakt:
  monika.rutishauser@ref-meilen.ch\n\nWeitere Infos:
  https://www.ref-meilen.ch/veranstaltung/17422
SUMMARY:Café Grüezi International
PRIORITY:5
X-MICROSOFT-CDO-IMPORTANCE:1
CLASS:PUBLIC
END:VEVENT
END:VCALENDAR
