BEGIN:VCALENDAR
PRODID:-//kirchenweb.ch gmbh//veranstaltungsausgabe v2.0//DE
VERSION:2.0
METHOD:PUBLISH
BEGIN:VEVENT
DTSTART:20270115T161500Z
DTEND:20270115T181500Z
LOCATION:Bau\, Kirchgasse 9\, 8706 Meilen
TRANSP:OPAQUE
SEQUENCE:0
UID:17061-veranstaltung@ref-meilen.ch
DTSTAMP:20260220T120036Z
DESCRIPTION:Kontakt: Martina Graf\n\nWeitere Infos:
  https://www.ref-meilen.ch/veranstaltung/17061
SUMMARY:Winterkino JuKi 1
PRIORITY:5
X-MICROSOFT-CDO-IMPORTANCE:1
CLASS:PUBLIC
END:VEVENT
END:VCALENDAR
