BEGIN:VCALENDAR
PRODID:-//kirchenweb.ch gmbh//veranstaltungsausgabe v2.0//DE
VERSION:2.0
METHOD:PUBLISH
BEGIN:VEVENT
DTSTART:20261107T110000Z
DTEND:20261107T120000Z
LOCATION:Chilesaal\, Kirchgasse 2\, 8706 Meilen
TRANSP:OPAQUE
SEQUENCE:0
UID:17043-veranstaltung@ref-meilen.ch
DTSTAMP:20260220T083724Z
DESCRIPTION:Kontakt: Martina Graf\n\n\nWeitere Infos:
  https://www.ref-meilen.ch/veranstaltung/17043
SUMMARY:Club 4
PRIORITY:5
X-MICROSOFT-CDO-IMPORTANCE:1
CLASS:PUBLIC
END:VEVENT
END:VCALENDAR
