BEGIN:VCALENDAR
PRODID:-//kirchenweb.ch gmbh//veranstaltungsausgabe v2.0//DE
VERSION:2.0
METHOD:PUBLISH
BEGIN:VEVENT
DTSTART:20270320T110000Z
DTEND:20270320T120000Z
LOCATION:Chilesaal\, Kirchgasse 2\, 8706 Meilen
TRANSP:OPAQUE
SEQUENCE:0
UID:17039-veranstaltung@ref-meilen.ch
DTSTAMP:20260220T083304Z
DESCRIPTION:Kontakt: Martina Graf\n\nWeitere Infos:
  https://www.ref-meilen.ch/veranstaltung/17039
SUMMARY:Zmittag mit Eltern 2. Klass-Unti
PRIORITY:5
X-MICROSOFT-CDO-IMPORTANCE:1
CLASS:PUBLIC
END:VEVENT
END:VCALENDAR
