BEGIN:VCALENDAR
PRODID:-//kirchenweb.ch gmbh//veranstaltungsausgabe v2.0//DE
VERSION:2.0
METHOD:PUBLISH
BEGIN:VEVENT
DTSTART:20261024T100000Z
DTEND:20261024T110000Z
LOCATION:Chilesaal\, Kirchgasse 2\, 8706 Meilen
TRANSP:OPAQUE
SEQUENCE:0
UID:17029-veranstaltung@ref-meilen.ch
DTSTAMP:20260220T083224Z
DESCRIPTION:Kontakt: Martina Graf\n\nWeitere Infos:
  https://www.ref-meilen.ch/veranstaltung/17029
SUMMARY:Zmittag mit Eltern 2. Klass-Unti
PRIORITY:5
X-MICROSOFT-CDO-IMPORTANCE:1
CLASS:PUBLIC
END:VEVENT
END:VCALENDAR
