BEGIN:VCALENDAR
PRODID:-//kirchenweb.ch gmbh//veranstaltungsausgabe v2.0//DE
VERSION:2.0
METHOD:PUBLISH
BEGIN:VEVENT
DTSTART:20260614T090000Z
DTEND:20260614T100000Z
LOCATION:Kirche\, Seestrasse 585\, 8706 Meilen
TRANSP:OPAQUE
SEQUENCE:0
UID:17028-veranstaltung@ref-meilen.ch
DTSTAMP:20260219T115353Z
DESCRIPTION:Kontakt: Marc Stillhard\n\nWeitere Infos:
  https://www.ref-meilen.ch/veranstaltung/17028
SUMMARY:Apéro mit Gesangseinlagen des JuMP!
PRIORITY:5
X-MICROSOFT-CDO-IMPORTANCE:1
CLASS:PUBLIC
END:VEVENT
END:VCALENDAR
