BEGIN:VCALENDAR
PRODID:-//kirchenweb.ch gmbh//veranstaltungsausgabe v2.0//DE
VERSION:2.0
METHOD:PUBLISH
BEGIN:VEVENT
DTSTART:20260513T154500Z
DTEND:20260513T171500Z
LOCATION:Bau\, Kirchgasse 9\, 8706 Meilen
TRANSP:OPAQUE
SEQUENCE:0
UID:16976-veranstaltung@ref-meilen.ch
DTSTAMP:20260122T124424Z
DESCRIPTION:Kontakt: flurina.bezzola@ref-meilen.ch\n\nWeitere Infos:
  https://www.ref-meilen.ch/veranstaltung/16976
SUMMARY:JuKi 2 & Konf: Bildschirmzeit & Umgang mit sozialen Medien\, Teil
  2
PRIORITY:5
X-MICROSOFT-CDO-IMPORTANCE:1
CLASS:PUBLIC
END:VEVENT
END:VCALENDAR
