BEGIN:VCALENDAR
PRODID:-//kirchenweb.ch gmbh//veranstaltungsausgabe v2.0//DE
VERSION:2.0
METHOD:PUBLISH
BEGIN:VEVENT
DTSTART:20261108T110000Z
DTEND:20261108T133000Z
LOCATION:Chilesaal\, Kirchgasse 2\, 8706 Meilen
TRANSP:OPAQUE
SEQUENCE:0
UID:16792-veranstaltung@ref-meilen.ch
DTSTAMP:20260112T123543Z
DESCRIPTION:Kontakt: nicole.moser@ref-meilen.ch\n\nWeitere Infos:
  https://www.ref-meilen.ch/veranstaltung/16792
SUMMARY:Zmittag nach dem Sing & Spirit Gottesdienst
PRIORITY:5
X-MICROSOFT-CDO-IMPORTANCE:1
CLASS:PUBLIC
END:VEVENT
END:VCALENDAR
