BEGIN:VCALENDAR
PRODID:-//kirchenweb.ch gmbh//veranstaltungsausgabe v2.0//DE
VERSION:2.0
METHOD:PUBLISH
BEGIN:VEVENT
DTSTART:20260610T120000Z
DTEND:20260610T143000Z
LOCATION:Schulhaus Feldmeilen: kleiner Werkraum unter der alten Turnhalle
  - bitte unteren Eingang bei der Höschstrasse benützen \, \,
TRANSP:OPAQUE
SEQUENCE:0
UID:16700-veranstaltung@ref-meilen.ch
DTSTAMP:20251221T112503Z
DESCRIPTION:Kontakt: Katharina Del Basso\n\nWeitere Infos:
  https://www.ref-meilen.ch/veranstaltung/16700
SUMMARY:Atelier-Treff Feldmeilen
PRIORITY:5
X-MICROSOFT-CDO-IMPORTANCE:1
CLASS:PUBLIC
END:VEVENT
END:VCALENDAR
