BEGIN:VCALENDAR
PRODID:-//kirchenweb.ch gmbh//veranstaltungsausgabe v2.0//DE
VERSION:2.0
METHOD:PUBLISH
BEGIN:VEVENT
DTSTART:20260827T120000Z
DTEND:20260827T143000Z
LOCATION:Bau\, Kirchgasse 9\, 8706 Meilen
TRANSP:OPAQUE
SEQUENCE:0
UID:16691-veranstaltung@ref-meilen.ch
DTSTAMP:20251220T134018Z
DESCRIPTION:Kontakt: Heike Kirschke\n\nWeitere Infos:
  https://www.ref-meilen.ch/veranstaltung/16691
SUMMARY:Atelier-Treff Dorf
PRIORITY:5
X-MICROSOFT-CDO-IMPORTANCE:1
CLASS:PUBLIC
END:VEVENT
END:VCALENDAR
