BEGIN:VCALENDAR
PRODID:-//kirchenweb.ch gmbh//veranstaltungsausgabe v2.0//DE
VERSION:2.0
METHOD:PUBLISH
BEGIN:VEVENT
DTSTART:20261121T150000Z
DTEND:20261121T154500Z
LOCATION:Tertianum Parkresidenz\, Dorfstrasse 16\, 8706 Meilen
TRANSP:OPAQUE
SEQUENCE:0
UID:16666-veranstaltung@ref-meilen.ch
DTSTAMP:20251216T141418Z
DESCRIPTION:Kontakt: erich.wyss@ref-meilen.ch\n\nWeitere Infos:
  https://www.ref-meilen.ch/veranstaltung/16666
SUMMARY:Tertianum Andacht
PRIORITY:5
X-MICROSOFT-CDO-IMPORTANCE:1
CLASS:PUBLIC
END:VEVENT
END:VCALENDAR
