BEGIN:VCALENDAR
PRODID:-//kirchenweb.ch gmbh//veranstaltungsausgabe v2.0//DE
VERSION:2.0
METHOD:PUBLISH
BEGIN:VEVENT
DTSTART:20260524T090000Z
DTEND:20260524T100000Z
LOCATION:Bau\, Kirchgasse 9\, 8706 Meilen
TRANSP:OPAQUE
SEQUENCE:0
UID:16633-veranstaltung@ref-meilen.ch
DTSTAMP:20260126T073725Z
DESCRIPTION:Kontakt: monika.rutishauser@ref-meilen.ch\n\nWeitere Infos:
  https://www.ref-meilen.ch/veranstaltung/16633
SUMMARY:Chilekafi im Bau
PRIORITY:5
X-MICROSOFT-CDO-IMPORTANCE:1
CLASS:PUBLIC
END:VEVENT
END:VCALENDAR
