BEGIN:VCALENDAR
PRODID:-//kirchenweb.ch gmbh//veranstaltungsausgabe v2.0//DE
VERSION:2.0
METHOD:PUBLISH
BEGIN:VEVENT
DTSTART:20260510T090000Z
DTEND:20260510T103000Z
LOCATION:Chilesaal\, Kirchgasse 2\, 8706 Meilen
TRANSP:OPAQUE
SEQUENCE:0
UID:16620-veranstaltung@ref-meilen.ch
DTSTAMP:20260126T073702Z
DESCRIPTION:Kontakt: monika.rutishauser@ref-meilen.ch\n\nWeitere Infos:
  https://www.ref-meilen.ch/veranstaltung/16620
SUMMARY:Chilekafi
PRIORITY:5
X-MICROSOFT-CDO-IMPORTANCE:1
CLASS:PUBLIC
END:VEVENT
END:VCALENDAR
