BEGIN:VCALENDAR
PRODID:-//kirchenweb.ch gmbh//veranstaltungsausgabe v2.0//DE
VERSION:2.0
METHOD:PUBLISH
BEGIN:VEVENT
DTSTART:20261118T174500Z
DTEND:20261118T191500Z
LOCATION:Chilesaal\, Kirchgasse 2\, 8706 Meilen
TRANSP:OPAQUE
SEQUENCE:0
UID:16431-veranstaltung@ref-meilen.ch
DTSTAMP:20251216T140304Z
DESCRIPTION:Kontakt: Erich Wyss\n\nWeitere Infos:
  https://www.ref-meilen.ch/veranstaltung/16431
SUMMARY:Hunger
PRIORITY:5
X-MICROSOFT-CDO-IMPORTANCE:1
CLASS:PUBLIC
END:VEVENT
END:VCALENDAR
