BEGIN:VCALENDAR
PRODID:-//kirchenweb.ch gmbh//veranstaltungsausgabe v2.0//DE
VERSION:2.0
METHOD:PUBLISH
BEGIN:VEVENT
DTSTART:20260526T120000Z
DTEND:20260526T143000Z
LOCATION:Chilesaal\, Kirchgasse 2\, 8706 Meilen
TRANSP:OPAQUE
SEQUENCE:0
UID:16405-veranstaltung@ref-meilen.ch
DTSTAMP:20251007T134147Z
DESCRIPTION:Kontakt: Heike Kirschke\n\nWeitere Infos:
  https://www.ref-meilen.ch/veranstaltung/16405
SUMMARY:Leue-Träff mit Erzählstunde
PRIORITY:5
X-MICROSOFT-CDO-IMPORTANCE:1
CLASS:PUBLIC
END:VEVENT
END:VCALENDAR
