BEGIN:VCALENDAR
PRODID:-//kirchenweb.ch gmbh//veranstaltungsausgabe v2.0//DE
VERSION:2.0
METHOD:PUBLISH
BEGIN:VEVENT
DTSTART:20260917T100000Z
DTEND:20260917T113000Z
LOCATION:Chilesaal\, Kirchgasse 2\, 8706 Meilen
TRANSP:OPAQUE
SEQUENCE:0
UID:16397-veranstaltung@ref-meilen.ch
DTSTAMP:20260126T123732Z
DESCRIPTION:Alle zwei Wochen am Donnerstag nicht kochen\, nicht
  einkaufen\, sich ein feines 4-gängiges Essen mit Dessert gönnen und
  Kontakte mit Gleichaltrigen pflegen: Wie wär's?\n\nTag: 14-täglich am
  Donnerstag (Ausnahme Sommer- und Weihnachtsferien)\nOrt: Kirchenzentrum
  Leue\, Chilesaal\, Kirchgasse 2\, bergseitiger Eingang Gasthof Löwen\,
  2. Stock\, Lift vorhanden\nZeit: 12.00 bis 13.30 Uhr\nKosten: 15 Franken
  pro Person\, inklusive Getränke (Mineralwasser und Kaffee)\n\nAuskunft:
  Susy Hartmann\, Telefon 044 923 19 41 (11.30 bis 13.30 Uhr und ab 18.00
  Uhr)\n\nKontakt: Heike Kirschke\n\nWeitere Infos:
  https://www.ref-meilen.ch/veranstaltung/16397
SUMMARY:Senioren-Mittagstisch Dorf
PRIORITY:5
X-MICROSOFT-CDO-IMPORTANCE:1
CLASS:PUBLIC
END:VEVENT
END:VCALENDAR
