BEGIN:VCALENDAR
PRODID:-//kirchenweb.ch gmbh//veranstaltungsausgabe v2.0//DE
VERSION:2.0
METHOD:PUBLISH
BEGIN:VEVENT
DTSTART:20260610T163000Z
DTEND:20260610T170000Z
LOCATION:Katholische Kirche Meilen\, Seestrasse 585\, 8706 Meilen
TRANSP:OPAQUE
SEQUENCE:0
UID:16314-veranstaltung@ref-meilen.ch
DTSTAMP:20251001T100405Z
DESCRIPTION:Kontakt: Erich Wyss\n\nWeitere Infos:
  https://www.ref-meilen.ch/veranstaltung/16314
SUMMARY:Ökumenisches Taizé-Friedensgebet
PRIORITY:5
X-MICROSOFT-CDO-IMPORTANCE:1
CLASS:PUBLIC
END:VEVENT
END:VCALENDAR
