BEGIN:VCALENDAR
PRODID:-//kirchenweb.ch gmbh//veranstaltungsausgabe v2.0//DE
VERSION:2.0
METHOD:PUBLISH
BEGIN:VEVENT
DTSTART:20261224T090000Z
DTEND:20261224T100000Z
LOCATION:Alterszentrum Platten\, Plattenstrasse 62\, 8706 Meilen
TRANSP:OPAQUE
SEQUENCE:0
UID:16283-veranstaltung@ref-meilen.ch
DTSTAMP:20250916T101109Z
DESCRIPTION:Kontakt: Karola Wildenauer\n\nWeitere Infos:
  https://www.ref-meilen.ch/veranstaltung/16283
SUMMARY:Andacht AZ Platten
PRIORITY:5
X-MICROSOFT-CDO-IMPORTANCE:1
CLASS:PUBLIC
END:VEVENT
END:VCALENDAR
