BEGIN:VCALENDAR
PRODID:-//kirchenweb.ch gmbh//veranstaltungsausgabe v2.0//DE
VERSION:2.0
METHOD:PUBLISH
BEGIN:VEVENT
DTSTART:20260913T090000Z
DTEND:20260913T100000Z
LOCATION:Kirche\, Seestrasse 585\, 8706 Meilen
TRANSP:OPAQUE
SEQUENCE:0
UID:16128-veranstaltung@ref-meilen.ch
DTSTAMP:20260102T111225Z
DESCRIPTION:Beschwingt\, tiefsinnig\, mit modernen Liedern und Band.
 \nAnschliessend essen wir gemeinsam zu Mittag.\nAm 28.9. werden ausserdem
  die neuen Konfirmand*innen begrüsst.\n\nHaben Sie Interesse in unserer
  Ansing-Gruppe mitzusingen?\nDann finden Sie vor dem Gottesdienst weitere
  Informationen.\n\nKontakt: Marc Stillhard\n\nWeitere Infos:
  https://www.ref-meilen.ch/veranstaltung/16128
SUMMARY:Sing & Spirit - Gottesdienst
PRIORITY:5
X-MICROSOFT-CDO-IMPORTANCE:1
CLASS:PUBLIC
END:VEVENT
END:VCALENDAR
