BEGIN:VCALENDAR
PRODID:-//kirchenweb.ch gmbh//veranstaltungsausgabe v2.0//DE
VERSION:2.0
METHOD:PUBLISH
BEGIN:VEVENT
DTSTART:20260619T151500Z
DTEND:20260619T171500Z
LOCATION:Bau\, Kirchgasse 9\, 8706 Meilen
TRANSP:OPAQUE
SEQUENCE:0
UID:16027-veranstaltung@ref-meilen.ch
DTSTAMP:20250701T121256Z
DESCRIPTION:Kontakt: flurina.bezzola@ref-meilen.ch\n\nWeitere Infos:
  https://www.ref-meilen.ch/veranstaltung/16027
SUMMARY:JuKi 2\, Juleiter:innenkurs
PRIORITY:5
X-MICROSOFT-CDO-IMPORTANCE:1
CLASS:PUBLIC
END:VEVENT
END:VCALENDAR
