BEGIN:VCALENDAR
PRODID:-//kirchenweb.ch gmbh//veranstaltungsausgabe v2.0//DE
VERSION:2.0
METHOD:PUBLISH
BEGIN:VEVENT
DTSTART:20260414T070000Z
DTEND:20260414T074500Z
LOCATION:Chilesaal\, Kirchgasse 2\, 8706 Meilen
TRANSP:OPAQUE
SEQUENCE:0
UID:15799-veranstaltung@ref-meilen.ch
DTSTAMP:20250522T082956Z
DESCRIPTION:Wie ging doch dieses Lied schon wieder?\n\nELKI weiss es
  bestimmt noch! ELKI ist ein grosser Stoffelch. Er animiert die Kinder und
  ihre Eltern/Grosseltern zum gemeinsamen Singen und Bewegen.\n\nIm
  ELKI-Singen lernen Eltern/Grosseltern wieder altbekannte\, aber
  vergessene Finger-\, Abzähl- und andere Verse\, Tischlieder und
  gesungene Abendgebete\, Bewegungsspiele\, Jahreszeiten- und Tanzlieder\,
  alte und neue Kinderlieder. Die Erwachsenen singen\, spielen\, Tanzen
  zusammen mit ihren Kindern und für ihre Kinder.\n\nIn jeder Lektion gibt
  es einen kleinen Gedankenaustausch unter den Erwachsenen zu ethischen\,
  religiösen oder erzieherischen Fragen. In dieser kurzen Zeit spielen und
  singen die Kinder alleine mit der Singleiterin.\n\nZusammen mit dem
  Elternteil trägt das Kind einen reichen Schatz an Erfahrungen nach Hause
  (für die Eltern auf Papier gebannt)\, der dort bei Gelegenheit wieder
  hervorgeholt werden kann.\n\nKontakt: monika.rutishauser@ref-meilen.ch\n
 \nWeitere Infos: https://www.ref-meilen.ch/veranstaltung/15799
SUMMARY:Singe mit de Chliine Gruppe 1
PRIORITY:5
X-MICROSOFT-CDO-IMPORTANCE:1
CLASS:PUBLIC
END:VEVENT
END:VCALENDAR
