BEGIN:VCALENDAR
PRODID:-//kirchenweb.ch gmbh//veranstaltungsausgabe v2.0//DE
VERSION:2.0
METHOD:PUBLISH
BEGIN:VEVENT
DTSTART:20260613T070000Z
DTEND:20260613T100000Z
LOCATION:Bau\, Kirchgasse 9\, 8706 Meilen
TRANSP:OPAQUE
SEQUENCE:0
UID:15104-veranstaltung@ref-meilen.ch
DTSTAMP:20250220T133331Z
DESCRIPTION:Kontakt: Martina Graf\n\nWeitere Infos:
  https://www.ref-meilen.ch/veranstaltung/15104
SUMMARY:Kolibri
PRIORITY:5
X-MICROSOFT-CDO-IMPORTANCE:1
CLASS:PUBLIC
END:VEVENT
END:VCALENDAR
