BEGIN:VCALENDAR
PRODID:-//kirchenweb.ch gmbh//veranstaltungsausgabe v2.0//DE
VERSION:2.0
METHOD:PUBLISH
BEGIN:VEVENT
DTSTART:20271121T161500Z
DTEND:20271121T170000Z
LOCATION:Kirche\, Seestrasse 585\, 8706 Meilen
TRANSP:OPAQUE
SEQUENCE:0
UID:13436-veranstaltung@ref-meilen.ch
DTSTAMP:20240514T130529Z
DESCRIPTION:JUVEM\, das Junge Vokalensemble Meilen präsentiert am
  Ewigkeitssonntag sein jährliches Herbstkonzert «O Magnum Mysterium».
  Das Konzert findet jährlich am Ewigkeitssonntag statt - ein Tag an der
  Schwelle zur Adventszeit\, ein Tag der sich mit der Schwelle zum Tod\,
  zur Ewigkeit befasst.\n\nKontakt: Ernst Buscagne\n\nWeitere Infos:
  https://www.ref-meilen.ch/veranstaltung/13436
SUMMARY:JUVEM Junges Vokalensemble Meilen
PRIORITY:5
X-MICROSOFT-CDO-IMPORTANCE:1
CLASS:PUBLIC
END:VEVENT
END:VCALENDAR
