BEGIN:VCALENDAR
PRODID:-//kirchenweb.ch gmbh//veranstaltungsausgabe v2.0//DE
VERSION:2.0
METHOD:PUBLISH
BEGIN:VEVENT
DTSTART:20261129T150000Z
DTEND:20261129T160000Z
LOCATION:Kirche\, Seestrasse 585\, 8706 Meilen
TRANSP:OPAQUE
SEQUENCE:0
UID:13433-veranstaltung@ref-meilen.ch
DTSTAMP:20260116T104450Z
DESCRIPTION:Kontakt: Ernst Buscagne\n\nWeitere Infos:
  https://www.ref-meilen.ch/veranstaltung/13433
SUMMARY:Adventssingen
PRIORITY:5
X-MICROSOFT-CDO-IMPORTANCE:1
CLASS:PUBLIC
END:VEVENT
END:VCALENDAR
