BEGIN:VCALENDAR
PRODID:-//kirchenweb.ch gmbh//veranstaltungsausgabe v2.0//DE
VERSION:2.0
METHOD:PUBLISH
BEGIN:VEVENT
DTSTART:20270627T171500Z
DTEND:20270627T184500Z
LOCATION:Kirche\, \,
TRANSP:OPAQUE
SEQUENCE:0
UID:13432-veranstaltung@ref-meilen.ch
DTSTAMP:20240514T130127Z
DESCRIPTION:Kontakt: Ernst Buscagne\n\nWeitere Infos:
  https://www.ref-meilen.ch/veranstaltung/13432
SUMMARY:Konzert JUVEM
PRIORITY:5
X-MICROSOFT-CDO-IMPORTANCE:1
CLASS:PUBLIC
END:VEVENT
END:VCALENDAR
