BEGIN:VCALENDAR
PRODID:-//kirchenweb.ch gmbh//veranstaltungsausgabe v2.0//DE
VERSION:2.0
METHOD:PUBLISH
BEGIN:VEVENT
DTSTART:20260621T150000Z
DTEND:20260621T160000Z
LOCATION:Kirche\, \,
TRANSP:OPAQUE
SEQUENCE:0
UID:13431-veranstaltung@ref-meilen.ch
DTSTAMP:20260119T214854Z
DESCRIPTION:Kontakt: Ernst Buscagne\n\nWeitere Infos:
  https://www.ref-meilen.ch/veranstaltung/13431
SUMMARY:Konzert JUVEM
PRIORITY:5
X-MICROSOFT-CDO-IMPORTANCE:1
CLASS:PUBLIC
END:VEVENT
END:VCALENDAR
