BEGIN:VCALENDAR
PRODID:-//kirchenweb.ch gmbh//veranstaltungsausgabe v2.0//DE
VERSION:2.0
METHOD:PUBLISH
BEGIN:VEVENT
DTSTART:20260816T074500Z
DTEND:20260816T084500Z
LOCATION:Kirche\, Seestrasse 585\, 8706 Meilen
TRANSP:OPAQUE
SEQUENCE:0
UID:12608-veranstaltung@ref-meilen.ch
DTSTAMP:20251203T153809Z
DESCRIPTION:Gottesdienst\n\nKontakt: Karola Wildenauer\n\nWeitere Infos:
  https://www.ref-meilen.ch/veranstaltung/12608
SUMMARY:Gottesdienst mit Segen zum Schulanfang
PRIORITY:5
X-MICROSOFT-CDO-IMPORTANCE:1
CLASS:PUBLIC
END:VEVENT
END:VCALENDAR
