BEGIN:VCALENDAR
PRODID:-//kirchenweb.ch gmbh//veranstaltungsausgabe v2.0//DE
VERSION:2.0
METHOD:PUBLISH
BEGIN:VEVENT
DTSTART:20260705T074500Z
DTEND:20260705T084500Z
LOCATION:Kirche\, Seestrasse 585\, 8706 Meilen
TRANSP:OPAQUE
SEQUENCE:0
UID:12551-veranstaltung@ref-meilen.ch
DTSTAMP:20251221T133106Z
DESCRIPTION:Gottesdienst\n\nKontakt: Marc Stillhard\n\nWeitere Infos:
  https://www.ref-meilen.ch/veranstaltung/12551
SUMMARY:Gottesdienst mit Einsetzung der Kirchenpflegemitglieder
PRIORITY:5
X-MICROSOFT-CDO-IMPORTANCE:1
CLASS:PUBLIC
END:VEVENT
END:VCALENDAR
