BEGIN:VCALENDAR
PRODID:-//kirchenweb.ch gmbh//veranstaltungsausgabe v2.0//DE
VERSION:2.0
METHOD:PUBLISH
BEGIN:VEVENT
DTSTART:20260614T074500Z
DTEND:20260614T084500Z
LOCATION:Kirche\, Seestrasse 585\, 8706 Meilen
TRANSP:OPAQUE
SEQUENCE:0
UID:12548-veranstaltung@ref-meilen.ch
DTSTAMP:20260301T124543Z
DESCRIPTION:Gottesdienst mit Verabschiedung von Christine Schneiter und
  Marcel Andris\n\nKontakt: Marc Stillhard\n\nWeitere Infos:
  https://www.ref-meilen.ch/veranstaltung/12548
SUMMARY:Gottesdienst mit JuMP! Verabschiedung Marcel Andris und Christine
  Schneiter
PRIORITY:5
X-MICROSOFT-CDO-IMPORTANCE:1
CLASS:PUBLIC
END:VEVENT
END:VCALENDAR
