BEGIN:VCALENDAR
PRODID:-//kirchenweb.ch gmbh//veranstaltungsausgabe v2.0//DE
VERSION:2.0
METHOD:PUBLISH
BEGIN:VEVENT
DTSTART:20261122T084500Z
DTEND:20261122T094500Z
LOCATION:Kirche\, \,
TRANSP:OPAQUE
SEQUENCE:0
UID:12525-veranstaltung@ref-meilen.ch
DTSTAMP:20251203T154901Z
DESCRIPTION:Gottesdienst\n\nKontakt: Erich Wyss\n\nWeitere Infos:
  https://www.ref-meilen.ch/veranstaltung/12525
SUMMARY:Gottesdienst am Ewigkeitssonntag
PRIORITY:5
X-MICROSOFT-CDO-IMPORTANCE:1
CLASS:PUBLIC
END:VEVENT
END:VCALENDAR
