BEGIN:VCALENDAR
PRODID:-//kirchenweb.ch gmbh//veranstaltungsausgabe v2.0//DE
VERSION:2.0
METHOD:PUBLISH
BEGIN:VEVENT
DTSTART:20271218T171500Z
DTEND:20271218T181500Z
LOCATION:Kirche\, Seestrasse 585\, 8706 Meilen
TRANSP:OPAQUE
SEQUENCE:0
UID:12514-veranstaltung@ref-meilen.ch
DTSTAMP:20240126T170417Z
DESCRIPTION:Gottesdienst\n\nKontakt: Daniel Eschmann\nErnst Buscagne\n
 \nWeitere Infos: https://www.ref-meilen.ch/veranstaltung/12514
SUMMARY:Gospelweihnacht
PRIORITY:5
X-MICROSOFT-CDO-IMPORTANCE:1
CLASS:PUBLIC
END:VEVENT
END:VCALENDAR
