BEGIN:VCALENDAR
PRODID:-//kirchenweb.ch gmbh//veranstaltungsausgabe v2.0//DE
VERSION:2.0
METHOD:PUBLISH
BEGIN:VEVENT
DTSTART:20261219T171500Z
DTEND:20261219T181500Z
LOCATION:Kirche\, Seestrasse 585\, 8706 Meilen
TRANSP:OPAQUE
SEQUENCE:0
UID:12513-veranstaltung@ref-meilen.ch
DTSTAMP:20251203T155507Z
DESCRIPTION:Gottesdienst\n\nKontakt: Erich Wyss\nErnst Buscagne\n\nWeitere
  Infos: https://www.ref-meilen.ch/veranstaltung/12513
SUMMARY:Gospelweihnacht
PRIORITY:5
X-MICROSOFT-CDO-IMPORTANCE:1
CLASS:PUBLIC
END:VEVENT
END:VCALENDAR
