BEGIN:VCALENDAR
PRODID:-//kirchenweb.ch gmbh//veranstaltungsausgabe v2.0//DE
VERSION:2.0
METHOD:PUBLISH
BEGIN:VEVENT
DTSTART:20261224T210000Z
DTEND:20261224T220000Z
LOCATION:Kirche\, Seestrasse 585\, 8706 Meilen
TRANSP:OPAQUE
SEQUENCE:0
UID:12509-veranstaltung@ref-meilen.ch
DTSTAMP:20251203T165127Z
DESCRIPTION:Gottesdienst\n\nKontakt: Marc Stillhard\n\nWeitere Infos:
  https://www.ref-meilen.ch/veranstaltung/12509
SUMMARY:Christnachtfeier
PRIORITY:5
X-MICROSOFT-CDO-IMPORTANCE:1
CLASS:PUBLIC
END:VEVENT
END:VCALENDAR
